BEGIN:VCALENDAR
VERSION:2.0
PRODID:-//mhaorangeny.com//NONSGML kigkonsult.se iCalcreator 2.30.10//
CALSCALE:GREGORIAN
METHOD:PUBLISH
UID:6869250f-2268-4005-acd0-72147c88fa3a
X-WR-CALDESC:A support group for ages 12-17 who have been effected by suici
 de.
X-WR-RELCALID:3679efdbaca017238f5cf4ac64486875
X-WR-TIMEZONE:America/Chicago
BEGIN:VTIMEZONE
TZID:America/Chicago
BEGIN:STANDARD
TZNAME:CST
DTSTART:20241103T020000
TZOFFSETFROM:-0500
TZOFFSETTO:-0600
RDATE:20251102T020000
RDATE:20261101T020000
END:STANDARD
BEGIN:DAYLIGHT
TZNAME:CDT
DTSTART:20250309T020000
TZOFFSETFROM:-0600
TZOFFSETTO:-0500
RDATE:20260308T020000
END:DAYLIGHT
END:VTIMEZONE
BEGIN:VEVENT
UID:1a85b065-e21e-48ff-b383-b24120cd1849
DTSTAMP:20260424T142216Z
DESCRIPTION:A support group for ages 12-17 who have been effected by suicid
 e.
DTSTART;TZID=America/Chicago:20250701T060000
DTEND;TZID=America/Chicago:20250701T193000
LOCATION:73 James P Kelly\, Middletown\, NY 10916 US
SUMMARY:Teen Suicide Group
END:VEVENT
END:VCALENDAR
