BEGIN:VCALENDAR
VERSION:2.0
PRODID:-//mhaorangeny.com//NONSGML kigkonsult.se iCalcreator 2.30.10//
CALSCALE:GREGORIAN
METHOD:PUBLISH
UID:2a339841-ef0b-4287-b02f-946d2577c6fd
X-WR-CALDESC:
X-WR-RELCALID:69166266fb12a00f94676db1ab3ffb75
X-WR-TIMEZONE:America/Chicago
BEGIN:VTIMEZONE
TZID:America/Chicago
BEGIN:STANDARD
TZNAME:CST
DTSTART:20241103T020000
TZOFFSETFROM:-0500
TZOFFSETTO:-0600
RDATE:20251102T020000
RDATE:20261101T020000
END:STANDARD
BEGIN:DAYLIGHT
TZNAME:CDT
DTSTART:20250309T020000
TZOFFSETFROM:-0600
TZOFFSETTO:-0500
RDATE:20260308T020000
END:DAYLIGHT
END:VTIMEZONE
BEGIN:VEVENT
UID:ecb7d767-3620-4744-b64c-d40908745dcd
DTSTAMP:20260424T143235Z
DESCRIPTION:
DTSTART;TZID=America/Chicago:20250701T100000
DTEND;TZID=America/Chicago:20250701T140000
LOCATION:Broadway Green Lot\, 128 Broadway \, Newburgh \, NY 12550 US
SUMMARY:Healthy Orange Farmer's Market
END:VEVENT
END:VCALENDAR
