BEGIN:VCALENDAR
VERSION:2.0
PRODID:-//mhaorangeny.com//NONSGML kigkonsult.se iCalcreator 2.30.10//
CALSCALE:GREGORIAN
METHOD:PUBLISH
UID:90392de7-a250-45b0-a5d9-593a393215b9
X-WR-CALDESC:
X-WR-RELCALID:ac725f5b29cdbe2a1367514d3717bb93
X-WR-TIMEZONE:America/Chicago
BEGIN:VTIMEZONE
TZID:America/Chicago
BEGIN:STANDARD
TZNAME:CST
DTSTART:20241103T020000
TZOFFSETFROM:-0500
TZOFFSETTO:-0600
RDATE:20251102T020000
RDATE:20261101T020000
END:STANDARD
BEGIN:DAYLIGHT
TZNAME:CDT
DTSTART:20250309T020000
TZOFFSETFROM:-0600
TZOFFSETTO:-0500
RDATE:20260308T020000
END:DAYLIGHT
END:VTIMEZONE
BEGIN:VEVENT
UID:95d1cb0d-1418-48a4-8e06-97f23530c0a4
DTSTAMP:20260424T124030Z
DESCRIPTION:
DTSTART;TZID=America/Chicago:20250623T100000
DTEND;TZID=America/Chicago:20250623T130000
LOCATION:Orange County Department of Health \, 30 Harriman Dr. \, Goshen\, 
 NY 10924 US
SUMMARY:SafeTalk Suicide Prevention Training
END:VEVENT
END:VCALENDAR
