BEGIN:VCALENDAR
VERSION:2.0
PRODID:-//mhaorangeny.com//NONSGML kigkonsult.se iCalcreator 2.30.10//
CALSCALE:GREGORIAN
METHOD:PUBLISH
UID:d762fede-b351-43ea-9b96-1b4b1883ecf6
X-WR-CALDESC:
X-WR-RELCALID:ccd8d50d76cd5f5da06c955904baf4cf
X-WR-TIMEZONE:America/Chicago
BEGIN:VTIMEZONE
TZID:America/Chicago
BEGIN:STANDARD
TZNAME:CST
DTSTART:20241103T020000
TZOFFSETFROM:-0500
TZOFFSETTO:-0600
RDATE:20251102T020000
RDATE:20261101T020000
END:STANDARD
BEGIN:DAYLIGHT
TZNAME:CDT
DTSTART:20250309T020000
TZOFFSETFROM:-0600
TZOFFSETTO:-0500
RDATE:20260308T020000
END:DAYLIGHT
END:VTIMEZONE
BEGIN:VEVENT
UID:71ad1013-2bae-4bd5-973d-b653c11836d8
DTSTAMP:20260424T124336Z
DESCRIPTION:
DTSTART;TZID=America/Chicago:20250622T110000
DTEND;TZID=America/Chicago:20250622T130000
LOCATION:Body Oils NY\, 157 Dolson Ave\, Middletown \, NY 10940 US
SUMMARY:Relaxation and Pain Management Class sponsored by Thrall Library
END:VEVENT
END:VCALENDAR
