BEGIN:VCALENDAR
VERSION:2.0
PRODID:-//mhaorangeny.com//NONSGML kigkonsult.se iCalcreator 2.30.10//
CALSCALE:GREGORIAN
METHOD:PUBLISH
UID:19c8e45b-aef7-4500-b019-54074e430179
X-WR-CALDESC:
X-WR-RELCALID:6a5f9dd4f228beb26b22f5092f75404f
X-WR-TIMEZONE:America/Chicago
BEGIN:VTIMEZONE
TZID:America/Chicago
BEGIN:STANDARD
TZNAME:CST
DTSTART:20241103T020000
TZOFFSETFROM:-0500
TZOFFSETTO:-0600
RDATE:20251102T020000
RDATE:20261101T020000
END:STANDARD
BEGIN:DAYLIGHT
TZNAME:CDT
DTSTART:20250309T020000
TZOFFSETFROM:-0600
TZOFFSETTO:-0500
RDATE:20260308T020000
END:DAYLIGHT
END:VTIMEZONE
BEGIN:VEVENT
UID:8ed14763-59b9-4639-885a-59db0d84c3c9
DTSTAMP:20260424T124019Z
DESCRIPTION:
DTSTART;TZID=America/Chicago:20250621T100000
DTEND;TZID=America/Chicago:20250621T170000
LOCATION:Safe Harbors Green\, 111 Broadway\, Newburgh\, NY 12550 US
SUMMARY:Pride on the Green
END:VEVENT
END:VCALENDAR
