BEGIN:VCALENDAR
VERSION:2.0
PRODID:-//mhaorangeny.com//NONSGML kigkonsult.se iCalcreator 2.30.10//
CALSCALE:GREGORIAN
METHOD:PUBLISH
UID:750fedfe-d500-451d-9318-1b453d835990
X-WR-CALDESC:
X-WR-RELCALID:3b08cb9a3c463a8287c25c2a9272eda6
X-WR-TIMEZONE:America/Chicago
BEGIN:VTIMEZONE
TZID:America/Chicago
BEGIN:STANDARD
TZNAME:CST
DTSTART:20241103T020000
TZOFFSETFROM:-0500
TZOFFSETTO:-0600
RDATE:20251102T020000
RDATE:20261101T020000
END:STANDARD
BEGIN:DAYLIGHT
TZNAME:CDT
DTSTART:20250309T020000
TZOFFSETFROM:-0600
TZOFFSETTO:-0500
RDATE:20260308T020000
END:DAYLIGHT
END:VTIMEZONE
BEGIN:VEVENT
UID:82ce210b-eebe-4350-b1ad-952b0ed2dfd9
DTSTAMP:20260424T123944Z
DESCRIPTION:
DTSTART;TZID=America/Chicago:20250616T100000
DTEND;TZID=America/Chicago:20250616T130000
LOCATION:Burton Towers\, 36 Cerone Pl\, Newburgh\, NY 12550 US
SUMMARY:Senior Link Day
END:VEVENT
END:VCALENDAR
