BEGIN:VCALENDAR
VERSION:2.0
PRODID:-//mhaorangeny.com//NONSGML kigkonsult.se iCalcreator 2.30.10//
CALSCALE:GREGORIAN
METHOD:PUBLISH
UID:8ca6da24-bf21-4152-8b53-80ceca71fad9
X-WR-CALDESC:Railroad Green\, Warwick\, NY
X-WR-RELCALID:69e6180ac78ec7860c06b1883ec4d40d
X-WR-TIMEZONE:America/Chicago
BEGIN:VTIMEZONE
TZID:America/Chicago
BEGIN:STANDARD
TZNAME:CST
DTSTART:20241103T020000
TZOFFSETFROM:-0500
TZOFFSETTO:-0600
RDATE:20251102T020000
RDATE:20261101T020000
END:STANDARD
BEGIN:DAYLIGHT
TZNAME:CDT
DTSTART:20250309T020000
TZOFFSETFROM:-0600
TZOFFSETTO:-0500
RDATE:20260308T020000
END:DAYLIGHT
END:VTIMEZONE
BEGIN:VEVENT
UID:95483188-ee65-470e-8aa1-30ca04c6271b
DTSTAMP:20260424T124115Z
DESCRIPTION:Railroad Green\, Warwick\, NY
DTSTART;TZID=America/Chicago:20250614T090000
DTEND;TZID=America/Chicago:20250614T140000
LOCATION:
SUMMARY:Warwick Health Fair
END:VEVENT
END:VCALENDAR
