BEGIN:VCALENDAR
VERSION:2.0
PRODID:-//mhaorangeny.com//NONSGML kigkonsult.se iCalcreator 2.30.10//
CALSCALE:GREGORIAN
METHOD:PUBLISH
UID:466e0ab3-f945-432c-a381-e8f7954f7b19
X-WR-CALDESC:
X-WR-RELCALID:35a6f964d56dbecf4b5f21b7e0c71774
X-WR-TIMEZONE:America/Chicago
BEGIN:VTIMEZONE
TZID:America/Chicago
BEGIN:STANDARD
TZNAME:CST
DTSTART:20241103T020000
TZOFFSETFROM:-0500
TZOFFSETTO:-0600
RDATE:20251102T020000
RDATE:20261101T020000
END:STANDARD
BEGIN:DAYLIGHT
TZNAME:CDT
DTSTART:20250309T020000
TZOFFSETFROM:-0600
TZOFFSETTO:-0500
RDATE:20260308T020000
END:DAYLIGHT
END:VTIMEZONE
BEGIN:VEVENT
UID:b9ed1aa3-aa98-47db-aae0-cffe1523a411
DTSTAMP:20260424T123928Z
DESCRIPTION:
DTSTART;TZID=America/Chicago:20250608T100000
DTEND;TZID=America/Chicago:20250608T170000
LOCATION:Warwick Valley Community Center\, 11 Hamilton Ave\, Warwick \, NY 
 10990 US
SUMMARY:Warwick Pride
END:VEVENT
END:VCALENDAR
