BEGIN:VCALENDAR
VERSION:2.0
PRODID:-//mhaorangeny.com//NONSGML kigkonsult.se iCalcreator 2.30.10//
CALSCALE:GREGORIAN
METHOD:PUBLISH
UID:4fa962de-3b5c-4309-91dc-39ed9ffad2f4
X-WR-CALDESC:
X-WR-RELCALID:966bef754bb66fbefb10654cd65dbb15
X-WR-TIMEZONE:America/Chicago
BEGIN:VTIMEZONE
TZID:America/Chicago
BEGIN:STANDARD
TZNAME:CST
DTSTART:20241103T020000
TZOFFSETFROM:-0500
TZOFFSETTO:-0600
RDATE:20251102T020000
RDATE:20261101T020000
END:STANDARD
BEGIN:DAYLIGHT
TZNAME:CDT
DTSTART:20250309T020000
TZOFFSETFROM:-0600
TZOFFSETTO:-0500
RDATE:20260308T020000
END:DAYLIGHT
END:VTIMEZONE
BEGIN:VEVENT
UID:4ebef0c6-6001-4ff4-9826-2e8c653f057c
DTSTAMP:20260424T125437Z
DESCRIPTION:
DTSTART;TZID=America/Chicago:20250608T100000
DTEND;TZID=America/Chicago:20250609T140000
LOCATION:Thomas Bull Memorial Park\, 211 State Rt. 416 \, Montgomery\, NY 1
 0917 US
SUMMARY:Senior Health and Fitness Day
END:VEVENT
END:VCALENDAR
