BEGIN:VCALENDAR
VERSION:2.0
PRODID:-//mhaorangeny.com//NONSGML kigkonsult.se iCalcreator 2.30.10//
CALSCALE:GREGORIAN
METHOD:PUBLISH
UID:4363a3ff-e962-47ee-aae5-f61a79140912
X-WR-CALDESC:A support group for ages 12-17 who have been effected by suici
 de.
X-WR-RELCALID:bab6966fe04fbb77fc63095744ad8e6a
X-WR-TIMEZONE:America/Chicago
BEGIN:VTIMEZONE
TZID:America/Chicago
BEGIN:STANDARD
TZNAME:CST
DTSTART:20241103T020000
TZOFFSETFROM:-0500
TZOFFSETTO:-0600
RDATE:20251102T020000
RDATE:20261101T020000
END:STANDARD
BEGIN:DAYLIGHT
TZNAME:CDT
DTSTART:20250309T020000
TZOFFSETFROM:-0600
TZOFFSETTO:-0500
RDATE:20260308T020000
END:DAYLIGHT
END:VTIMEZONE
BEGIN:VEVENT
UID:0659d07e-5eaa-4fec-af58-a7612c4b267b
DTSTAMP:20260424T124115Z
DESCRIPTION:A support group for ages 12-17 who have been effected by suicid
 e.
DTSTART;TZID=America/Chicago:20250603T060000
DTEND;TZID=America/Chicago:20250603T193000
LOCATION:73 James P Kelly\, Middletown\, NY 10916 US
SUMMARY:Teen Suicide Group
END:VEVENT
END:VCALENDAR
