BEGIN:VCALENDAR
VERSION:2.0
PRODID:-//mhaorangeny.com//NONSGML kigkonsult.se iCalcreator 2.30.10//
CALSCALE:GREGORIAN
METHOD:PUBLISH
UID:a010f8f4-2e2a-4ca8-88f1-e1164c86bac5
X-WR-CALDESC:Come join us for a family support group to help you navigate t
 he OPWDD system and find your people! \nRegister here!  https://buff.ly/iU
 fUoOP
X-WR-RELCALID:d1d7de735b9da42b94e43a249beb9f05
X-WR-TIMEZONE:America/Chicago
BEGIN:VTIMEZONE
TZID:America/Chicago
BEGIN:STANDARD
TZNAME:CST
DTSTART:20241103T020000
TZOFFSETFROM:-0500
TZOFFSETTO:-0600
RDATE:20251102T020000
RDATE:20261101T020000
END:STANDARD
BEGIN:DAYLIGHT
TZNAME:CDT
DTSTART:20250309T020000
TZOFFSETFROM:-0600
TZOFFSETTO:-0500
RDATE:20260308T020000
END:DAYLIGHT
END:VTIMEZONE
BEGIN:VEVENT
UID:f74c93ef-50e9-484a-b616-8b08f6d577d1
DTSTAMP:20260424T124018Z
DESCRIPTION:Come join us for a family support group to help you navigate th
 e OPWDD system and find your people! \nRegister here!  https://buff.ly/iUf
 UoOP
DTSTART;TZID=America/Chicago:20250602T173000
DTEND;TZID=America/Chicago:20250602T183000
LOCATION:https://mhaorangeny.forms-db.com/view.php?id=121777
SUMMARY:OPWDD Family Support and Resource Group
END:VEVENT
END:VCALENDAR
