BEGIN:VCALENDAR
VERSION:2.0
PRODID:-//mhaorangeny.com//NONSGML kigkonsult.se iCalcreator 2.30.10//
CALSCALE:GREGORIAN
METHOD:PUBLISH
UID:c369e120-9c1a-4f03-bb37-ee4c74be9dae
X-WR-CALDESC:In continued celebration of Mental Health Awareness Month\, pl
 ease wear green next Thursday May  22nd!\nAlison and I will be taking as m
 any photos as we can\, but we would GREATLY appreciate your photos and sel
 fies to add to our social media. \n\nIf you could add in the attached 'Wha
 t's your #1' sign to your pictures- or just a picture of it\, that would b
 e amazing. \n\nThis is OUR month\, and we want to paint the town green in 
 recognition and destigmatization of mental illness. Thanks for helping us 
 make that possible!\n\nLooking forward to your photos!
X-WR-RELCALID:a609925f2e94491c3b932b7d04260700
X-WR-TIMEZONE:America/Chicago
BEGIN:VTIMEZONE
TZID:America/Chicago
BEGIN:STANDARD
TZNAME:CST
DTSTART:20241103T020000
TZOFFSETFROM:-0500
TZOFFSETTO:-0600
RDATE:20251102T020000
RDATE:20261101T020000
END:STANDARD
BEGIN:DAYLIGHT
TZNAME:CDT
DTSTART:20250309T020000
TZOFFSETFROM:-0600
TZOFFSETTO:-0500
RDATE:20260308T020000
END:DAYLIGHT
END:VTIMEZONE
BEGIN:VEVENT
UID:3295840c-1a97-445f-aa05-3673493f9ee3
DTSTAMP:20260424T111544Z
DESCRIPTION:In continued celebration of Mental Health Awareness Month\, ple
 ase wear green next Thursday May  22nd!\nAlison and I will be taking as ma
 ny photos as we can\, but we would GREATLY appreciate your photos and self
 ies to add to our social media. \n\nIf you could add in the attached 'What
 's your #1' sign to your pictures- or just a picture of it\, that would be
  amazing. \n\nThis is OUR month\, and we want to paint the town green in r
 ecognition and destigmatization of mental illness. Thanks for helping us m
 ake that possible!\n\nLooking forward to your photos!
DTSTART;TZID=America/Chicago:20250522T050000
DTEND;TZID=America/Chicago:20250522T050001
LOCATION:
SUMMARY:Be Seen In Green for Mental Health Awareness!
END:VEVENT
END:VCALENDAR
