BEGIN:VCALENDAR
VERSION:2.0
PRODID:-//mhaorangeny.com//NONSGML kigkonsult.se iCalcreator 2.30.10//
CALSCALE:GREGORIAN
METHOD:PUBLISH
UID:de85cbd7-8dc2-4a59-9b38-0a27bca9b166
X-WR-CALDESC:
X-WR-RELCALID:d55d0a403332a3aaf7da4986b0526418
X-WR-TIMEZONE:America/Chicago
BEGIN:VTIMEZONE
TZID:America/Chicago
BEGIN:STANDARD
TZNAME:CST
DTSTART:20241103T020000
TZOFFSETFROM:-0500
TZOFFSETTO:-0600
RDATE:20251102T020000
RDATE:20261101T020000
END:STANDARD
BEGIN:DAYLIGHT
TZNAME:CDT
DTSTART:20250309T020000
TZOFFSETFROM:-0600
TZOFFSETTO:-0500
RDATE:20260308T020000
END:DAYLIGHT
END:VTIMEZONE
BEGIN:VEVENT
UID:2777f2cc-eb5a-4ba6-9c4e-333deed38ea9
DTSTAMP:20260424T105636Z
DESCRIPTION:
DTSTART;TZID=America/Chicago:20250519T100000
DTEND;TZID=America/Chicago:20250519T120000
LOCATION:Middletown Thrall Library\, Depot St. \, Middletown \, NY 10940 US
SUMMARY:Let's Connect - Middletown Cares
END:VEVENT
END:VCALENDAR
