BEGIN:VCALENDAR
VERSION:2.0
PRODID:-//mhaorangeny.com//NONSGML kigkonsult.se iCalcreator 2.30.10//
CALSCALE:GREGORIAN
METHOD:PUBLISH
UID:217286d3-fd2b-461e-a0d2-2bfe1fa61875
X-WR-CALDESC:
X-WR-RELCALID:21a94c2b0ed24c12aa93854935c0db22
X-WR-TIMEZONE:America/Chicago
BEGIN:VTIMEZONE
TZID:America/Chicago
BEGIN:STANDARD
TZNAME:CST
DTSTART:20241103T020000
TZOFFSETFROM:-0500
TZOFFSETTO:-0600
RDATE:20251102T020000
RDATE:20261101T020000
END:STANDARD
BEGIN:DAYLIGHT
TZNAME:CDT
DTSTART:20250309T020000
TZOFFSETFROM:-0600
TZOFFSETTO:-0500
RDATE:20260308T020000
END:DAYLIGHT
END:VTIMEZONE
BEGIN:VEVENT
UID:1c0b7779-5f4c-4f4c-b7e0-9ec4c76c737a
DTSTAMP:20260424T110735Z
DESCRIPTION:
DTSTART;TZID=America/Chicago:20250513T130000
DTEND;TZID=America/Chicago:20250513T143000
LOCATION:https://events.gcc.teams.microsoft.com/event/4ad247fb-c2f5-492f-86
 11-d06aa67cf9b9@e95f1b23-abaf-45ee-821d-b7ab251ab3bf
SUMMARY:Firearm Safety for Suicide Prevention Workshop
END:VEVENT
END:VCALENDAR
