BEGIN:VCALENDAR
VERSION:2.0
PRODID:-//mhaorangeny.com//NONSGML kigkonsult.se iCalcreator 2.30.10//
CALSCALE:GREGORIAN
METHOD:PUBLISH
UID:25e4b0e2-da05-41c2-baf7-f6596656c4ed
X-WR-CALDESC:Railroad Green Warwick\, NY
X-WR-RELCALID:0c3f4c5ff78371afc7f5b6a4c3af5bc4
X-WR-TIMEZONE:America/Chicago
BEGIN:VTIMEZONE
TZID:America/Chicago
BEGIN:STANDARD
TZNAME:CST
DTSTART:20241103T020000
TZOFFSETFROM:-0500
TZOFFSETTO:-0600
RDATE:20251102T020000
RDATE:20261101T020000
END:STANDARD
BEGIN:DAYLIGHT
TZNAME:CDT
DTSTART:20250309T020000
TZOFFSETFROM:-0600
TZOFFSETTO:-0500
RDATE:20260308T020000
END:DAYLIGHT
END:VTIMEZONE
BEGIN:VEVENT
UID:8076dc36-1a07-4156-a08a-3206d86b2869
DTSTAMP:20260424T111137Z
DESCRIPTION:Railroad Green Warwick\, NY
DTSTART;TZID=America/Chicago:20250510T120000
DTEND;TZID=America/Chicago:20250510T160000
LOCATION:
SUMMARY:Warwick Cares Mental Health Day
END:VEVENT
END:VCALENDAR
