BEGIN:VCALENDAR
VERSION:2.0
PRODID:-//mhaorangeny.com//NONSGML kigkonsult.se iCalcreator 2.30.10//
CALSCALE:GREGORIAN
METHOD:PUBLISH
UID:f5c104f8-0847-4dcc-990d-f60403518f6f
X-WR-CALDESC:A support group for ages 12-17 who have been effected by suici
 de.
X-WR-RELCALID:2202b4e117271c46eef4e59c88760107
X-WR-TIMEZONE:America/Chicago
BEGIN:VTIMEZONE
TZID:America/Chicago
BEGIN:STANDARD
TZNAME:CST
DTSTART:20241103T020000
TZOFFSETFROM:-0500
TZOFFSETTO:-0600
RDATE:20251102T020000
RDATE:20261101T020000
END:STANDARD
BEGIN:DAYLIGHT
TZNAME:CDT
DTSTART:20250309T020000
TZOFFSETFROM:-0600
TZOFFSETTO:-0500
RDATE:20260308T020000
END:DAYLIGHT
END:VTIMEZONE
BEGIN:VEVENT
UID:3e613ba5-d1f2-419f-9d85-443c22655272
DTSTAMP:20260424T110742Z
DESCRIPTION:A support group for ages 12-17 who have been effected by suicid
 e.
DTSTART;TZID=America/Chicago:20250506T060000
DTEND;TZID=America/Chicago:20250506T193000
LOCATION:73 James P Kelly\, Middletown\, NY 10916 US
SUMMARY:Teen Suicide Group
END:VEVENT
END:VCALENDAR
