BEGIN:VCALENDAR
VERSION:2.0
PRODID:-//mhaorangeny.com//NONSGML kigkonsult.se iCalcreator 2.30.10//
CALSCALE:GREGORIAN
METHOD:PUBLISH
UID:5a1fd947-463e-49f6-bf7a-486b33a86dac
X-WR-CALDESC:
X-WR-RELCALID:367e8e3731d867d160cbcae1948b2e0f
X-WR-TIMEZONE:America/Chicago
BEGIN:VTIMEZONE
TZID:America/Chicago
BEGIN:STANDARD
TZNAME:CST
DTSTART:20241103T020000
TZOFFSETFROM:-0500
TZOFFSETTO:-0600
RDATE:20251102T020000
END:STANDARD
BEGIN:DAYLIGHT
TZNAME:CDT
DTSTART:20250309T020000
TZOFFSETFROM:-0600
TZOFFSETTO:-0500
RDATE:20260308T020000
END:DAYLIGHT
END:VTIMEZONE
BEGIN:VEVENT
UID:c1593d82-463f-48fd-973a-1e9fb12eef01
DTSTAMP:20260424T095211Z
DESCRIPTION:
DTSTART;TZID=America/Chicago:20250430T050000
DTEND;TZID=America/Chicago:20250430T050001
LOCATION:West Point \, 600 Thayer Rd.\, West Point \, NY 10996 US
SUMMARY:Walk-a-Mile and Sexual Assault Awareness and Prevention Month
END:VEVENT
END:VCALENDAR
