BEGIN:VCALENDAR
VERSION:2.0
PRODID:-//mhaorangeny.com//NONSGML kigkonsult.se iCalcreator 2.30.10//
CALSCALE:GREGORIAN
METHOD:PUBLISH
UID:f655e78b-38f3-40fe-b0a8-42b2adcf2b13
X-WR-CALDESC:
X-WR-RELCALID:6e84fc81f3c2165b90b58babe6005f50
X-WR-TIMEZONE:America/Chicago
BEGIN:VTIMEZONE
TZID:America/Chicago
BEGIN:STANDARD
TZNAME:CST
DTSTART:20241103T020000
TZOFFSETFROM:-0500
TZOFFSETTO:-0600
RDATE:20251102T020000
END:STANDARD
BEGIN:DAYLIGHT
TZNAME:CDT
DTSTART:20250309T020000
TZOFFSETFROM:-0600
TZOFFSETTO:-0500
RDATE:20260308T020000
END:DAYLIGHT
END:VTIMEZONE
BEGIN:VEVENT
UID:cf5201bb-8c11-4112-883a-1276123b3181
DTSTAMP:20260424T093052Z
DESCRIPTION:
DTSTART;TZID=America/Chicago:20250430T050000
DTEND;TZID=America/Chicago:20250430T050001
LOCATION:
SUMMARY:Denim Day - Sexual Assault Awareness Month
END:VEVENT
END:VCALENDAR
