BEGIN:VCALENDAR
VERSION:2.0
PRODID:-//mhaorangeny.com//NONSGML kigkonsult.se iCalcreator 2.30.10//
CALSCALE:GREGORIAN
METHOD:PUBLISH
UID:6ed6793c-3981-4db6-869b-c3474a4f7d2e
X-WR-CALDESC:
X-WR-RELCALID:49393b51fe791c2e9b20acfda89d97e0
X-WR-TIMEZONE:America/Chicago
BEGIN:VTIMEZONE
TZID:America/Chicago
BEGIN:STANDARD
TZNAME:CST
DTSTART:20241103T020000
TZOFFSETFROM:-0500
TZOFFSETTO:-0600
RDATE:20251102T020000
END:STANDARD
BEGIN:DAYLIGHT
TZNAME:CDT
DTSTART:20250309T020000
TZOFFSETFROM:-0600
TZOFFSETTO:-0500
RDATE:20260308T020000
END:DAYLIGHT
END:VTIMEZONE
BEGIN:VEVENT
UID:606c4ba0-bc0e-4a77-bdbe-95484bc2667c
DTSTAMP:20260424T094507Z
DESCRIPTION:
DTSTART;TZID=America/Chicago:20250426T050000
DTEND;TZID=America/Chicago:20250426T050001
LOCATION:Ice Time Sports Complex\,  21 Lakeside Rd.\, Newburgh\, NY 12550 U
 S
SUMMARY:Patriot Ice Hockey Tournament
END:VEVENT
END:VCALENDAR
