BEGIN:VCALENDAR
VERSION:2.0
PRODID:-//mhaorangeny.com//NONSGML kigkonsult.se iCalcreator 2.30.10//
CALSCALE:GREGORIAN
METHOD:PUBLISH
UID:91ddc463-abd8-4c75-9f44-2cc0fc778c86
X-WR-CALDESC:
X-WR-RELCALID:24fdf652b8e3fa46cd18cd02e3d33e51
X-WR-TIMEZONE:America/Chicago
BEGIN:VTIMEZONE
TZID:America/Chicago
BEGIN:STANDARD
TZNAME:CST
DTSTART:20241103T020000
TZOFFSETFROM:-0500
TZOFFSETTO:-0600
RDATE:20251102T020000
END:STANDARD
BEGIN:DAYLIGHT
TZNAME:CDT
DTSTART:20250309T020000
TZOFFSETFROM:-0600
TZOFFSETTO:-0500
RDATE:20260308T020000
END:DAYLIGHT
END:VTIMEZONE
BEGIN:VEVENT
UID:7f101503-8c0d-4cee-87d6-a756a55385f1
DTSTAMP:20260424T092100Z
DESCRIPTION:
DTSTART;TZID=America/Chicago:20250425T120000
DTEND;TZID=America/Chicago:20250425T170000
LOCATION:Orange Ulster Boces\, 53 Gibson Rd.\, Goshen \, NY 10924 US
SUMMARY:BOCES Transition Fair
END:VEVENT
END:VCALENDAR
