BEGIN:VCALENDAR
VERSION:2.0
PRODID:-//mhaorangeny.com//NONSGML kigkonsult.se iCalcreator 2.30.10//
CALSCALE:GREGORIAN
METHOD:PUBLISH
UID:7f0eb57f-5d78-4a08-9a1b-5614187f26fa
X-WR-CALDESC:
X-WR-RELCALID:7b0e0e7cc086db55ce0fb031203cdec8
X-WR-TIMEZONE:America/Chicago
BEGIN:VTIMEZONE
TZID:America/Chicago
BEGIN:STANDARD
TZNAME:CST
DTSTART:20241103T020000
TZOFFSETFROM:-0500
TZOFFSETTO:-0600
RDATE:20251102T020000
END:STANDARD
BEGIN:DAYLIGHT
TZNAME:CDT
DTSTART:20250309T020000
TZOFFSETFROM:-0600
TZOFFSETTO:-0500
RDATE:20260308T020000
END:DAYLIGHT
END:VTIMEZONE
BEGIN:VEVENT
UID:2531faa4-c8d7-42c8-a1ea-158b05923c46
DTSTAMP:20260424T092149Z
DESCRIPTION:
DTSTART;TZID=America/Chicago:20250424T050000
DTEND;TZID=America/Chicago:20250424T050001
LOCATION:
SUMMARY:BOCES Transition Fair
END:VEVENT
END:VCALENDAR
