BEGIN:VCALENDAR
VERSION:2.0
PRODID:-//mhaorangeny.com//NONSGML kigkonsult.se iCalcreator 2.30.10//
CALSCALE:GREGORIAN
METHOD:PUBLISH
UID:531b4a9b-d1a3-48a7-8176-be382dff9b91
X-WR-CALDESC:
X-WR-RELCALID:e7fd09e0a3df20bac779a8a2ca42189e
X-WR-TIMEZONE:America/Chicago
BEGIN:VTIMEZONE
TZID:America/Chicago
BEGIN:STANDARD
TZNAME:CST
DTSTART:20241103T020000
TZOFFSETFROM:-0500
TZOFFSETTO:-0600
RDATE:20251102T020000
END:STANDARD
BEGIN:DAYLIGHT
TZNAME:CDT
DTSTART:20250309T020000
TZOFFSETFROM:-0600
TZOFFSETTO:-0500
RDATE:20260308T020000
END:DAYLIGHT
END:VTIMEZONE
BEGIN:VEVENT
UID:6f682978-ae70-446e-a88f-7186ac75c7db
DTSTAMP:20260424T093644Z
DESCRIPTION:
DTSTART;TZID=America/Chicago:20250423T170000
DTEND;TZID=America/Chicago:20250423T190000
LOCATION:Hudson House \, 100 Leprechaun Ln\, New Windsor\, NY 12553 US
SUMMARY:Youth Planned Parenthood Presentation
END:VEVENT
END:VCALENDAR
