BEGIN:VCALENDAR
VERSION:2.0
PRODID:-//mhaorangeny.com//NONSGML kigkonsult.se iCalcreator 2.30.10//
CALSCALE:GREGORIAN
METHOD:PUBLISH
UID:4d77365b-50e1-4e26-8362-b7b01d6d76e0
X-WR-CALDESC:
X-WR-RELCALID:d1970b7bbef7cfc21875caaa855cbbca
X-WR-TIMEZONE:America/Chicago
BEGIN:VTIMEZONE
TZID:America/Chicago
BEGIN:STANDARD
TZNAME:CST
DTSTART:20241103T020000
TZOFFSETFROM:-0500
TZOFFSETTO:-0600
RDATE:20251102T020000
END:STANDARD
BEGIN:DAYLIGHT
TZNAME:CDT
DTSTART:20250309T020000
TZOFFSETFROM:-0600
TZOFFSETTO:-0500
RDATE:20260308T020000
END:DAYLIGHT
END:VTIMEZONE
BEGIN:VEVENT
UID:63027aaa-9ee2-4b89-8eed-ba0199ca6e1e
DTSTAMP:20260424T094437Z
DESCRIPTION:
DTSTART;TZID=America/Chicago:20250415T170000
DTEND;TZID=America/Chicago:20250415T210000
LOCATION:Salvation Army\, 80 West Main St. \, Middletown \, NY 10940 US
SUMMARY:Middletown Youth Night Out
END:VEVENT
END:VCALENDAR
