BEGIN:VCALENDAR
VERSION:2.0
PRODID:-//mhaorangeny.com//NONSGML kigkonsult.se iCalcreator 2.30.10//
CALSCALE:GREGORIAN
METHOD:PUBLISH
UID:c2455393-415f-463c-9358-84d23c023bbf
X-WR-CALDESC:
X-WR-RELCALID:e7dbd7977359ac88dc337bd7108eac2f
X-WR-TIMEZONE:America/Chicago
BEGIN:VTIMEZONE
TZID:America/Chicago
BEGIN:STANDARD
TZNAME:CST
DTSTART:20241103T020000
TZOFFSETFROM:-0500
TZOFFSETTO:-0600
RDATE:20251102T020000
END:STANDARD
BEGIN:DAYLIGHT
TZNAME:CDT
DTSTART:20250309T020000
TZOFFSETFROM:-0600
TZOFFSETTO:-0500
RDATE:20260308T020000
END:DAYLIGHT
END:VTIMEZONE
BEGIN:VEVENT
UID:d7cebdfa-5735-4904-aca1-17656de1d72c
DTSTAMP:20260424T093215Z
DESCRIPTION:
DTSTART;TZID=America/Chicago:20250410T110000
DTEND;TZID=America/Chicago:20250410T140000
LOCATION:Suny Middletown\, 115 South St. \, Middletown\, NY 10940 US
SUMMARY:Clothesline Event SUNY Middletown
END:VEVENT
END:VCALENDAR
