BEGIN:VCALENDAR
VERSION:2.0
PRODID:-//mhaorangeny.com//NONSGML kigkonsult.se iCalcreator 2.30.10//
CALSCALE:GREGORIAN
METHOD:PUBLISH
UID:76f9089b-f51c-4a0c-8d55-4b8844d633bc
X-WR-CALDESC:
X-WR-RELCALID:f0691c2c85dca90493141b8768e10304
X-WR-TIMEZONE:America/Chicago
BEGIN:VTIMEZONE
TZID:America/Chicago
BEGIN:STANDARD
TZNAME:CST
DTSTART:20241103T020000
TZOFFSETFROM:-0500
TZOFFSETTO:-0600
RDATE:20251102T020000
END:STANDARD
BEGIN:DAYLIGHT
TZNAME:CDT
DTSTART:20250309T020000
TZOFFSETFROM:-0600
TZOFFSETTO:-0500
RDATE:20260308T020000
END:DAYLIGHT
END:VTIMEZONE
BEGIN:VEVENT
UID:43a30458-ccd2-49ec-9bfe-cebd9ac8ebd6
DTSTAMP:20260424T093756Z
DESCRIPTION:
DTSTART;TZID=America/Chicago:20250408T180000
DTEND;TZID=America/Chicago:20250408T200000
LOCATION:Newburgh Free Academy - Main Campus\, 49 West St. \, Newburgh \, N
 Y 12550 US
SUMMARY:Transition Fair - Newburgh Free Academy
END:VEVENT
END:VCALENDAR
