BEGIN:VCALENDAR
VERSION:2.0
PRODID:-//mhaorangeny.com//NONSGML kigkonsult.se iCalcreator 2.30.10//
CALSCALE:GREGORIAN
METHOD:PUBLISH
UID:552a3853-9a4b-48ba-ae3c-fd077028c43d
X-WR-CALDESC:
X-WR-RELCALID:4c907491e98a0f1427a8304fc4182194
X-WR-TIMEZONE:America/Chicago
BEGIN:VTIMEZONE
TZID:America/Chicago
BEGIN:STANDARD
TZNAME:CST
DTSTART:20241103T020000
TZOFFSETFROM:-0500
TZOFFSETTO:-0600
RDATE:20251102T020000
END:STANDARD
BEGIN:DAYLIGHT
TZNAME:CDT
DTSTART:20250309T020000
TZOFFSETFROM:-0600
TZOFFSETTO:-0500
RDATE:20260308T020000
END:DAYLIGHT
END:VTIMEZONE
BEGIN:VEVENT
UID:b68bb9c9-6d65-4917-a6ea-95d517fc9d7e
DTSTAMP:20260424T094146Z
DESCRIPTION:
DTSTART;TZID=America/Chicago:20250408T100000
DTEND;TZID=America/Chicago:20250408T160000
LOCATION:Garnet Health\, 707 E. Main St. \, Middletown\, NY 10940 US
SUMMARY:MHA at Garnet Health
END:VEVENT
END:VCALENDAR
