BEGIN:VCALENDAR
VERSION:2.0
PRODID:-//mhaorangeny.com//NONSGML kigkonsult.se iCalcreator 2.30.10//
CALSCALE:GREGORIAN
METHOD:PUBLISH
UID:cae33d35-0d9e-40f6-8f77-09cb6a0a5edb
X-WR-CALDESC:Weekly gathering of Veterans at Gallery Billiards in Newburgh.
X-WR-RELCALID:ce03753e01ad07466d505a9d9a239611
X-WR-TIMEZONE:America/Chicago
BEGIN:VTIMEZONE
TZID:America/Chicago
BEGIN:STANDARD
TZNAME:CST
DTSTART:20241103T020000
TZOFFSETFROM:-0500
TZOFFSETTO:-0600
RDATE:20251102T020000
END:STANDARD
BEGIN:DAYLIGHT
TZNAME:CDT
DTSTART:20250309T020000
TZOFFSETFROM:-0600
TZOFFSETTO:-0500
RDATE:20260308T020000
END:DAYLIGHT
END:VTIMEZONE
BEGIN:VEVENT
UID:ed9d4ab1-d37d-4706-8072-b3ead337e5b3
DTSTAMP:20260424T094602Z
DESCRIPTION:Weekly gathering of Veterans at Gallery Billiards in Newburgh.
DTSTART;TZID=America/Chicago:20250408T123000
DTEND;TZID=America/Chicago:20250408T140000
LOCATION:154 North Plank Road\, Newburgh\, NY 12550 US
SUMMARY:Vet2Vet Billiards
END:VEVENT
END:VCALENDAR
