BEGIN:VCALENDAR
VERSION:2.0
PRODID:-//mhaorangeny.com//NONSGML kigkonsult.se iCalcreator 2.30.10//
CALSCALE:GREGORIAN
METHOD:PUBLISH
UID:a428f9e3-c5b9-4f0c-9ace-0ce333cda267
X-WR-CALDESC:
X-WR-RELCALID:f4aa2950bb33ef4a065ed66f8293d121
X-WR-TIMEZONE:America/Chicago
BEGIN:VTIMEZONE
TZID:America/Chicago
BEGIN:STANDARD
TZNAME:CST
DTSTART:20241103T020000
TZOFFSETFROM:-0500
TZOFFSETTO:-0600
RDATE:20251102T020000
END:STANDARD
BEGIN:DAYLIGHT
TZNAME:CDT
DTSTART:20250309T020000
TZOFFSETFROM:-0600
TZOFFSETTO:-0500
RDATE:20260308T020000
END:DAYLIGHT
END:VTIMEZONE
BEGIN:VEVENT
UID:64ae886c-a9dc-457b-974f-ad027ed63892
DTSTAMP:20260424T093511Z
DESCRIPTION:
DTSTART;TZID=America/Chicago:20250407T110000
DTEND;TZID=America/Chicago:20250407T140000
LOCATION:Suny Newburgh Campus\, 1 Washington Ctr\, Newburgh\, NY 12550 US
SUMMARY:Clothesline Event Suny Newburgh
END:VEVENT
END:VCALENDAR
