BEGIN:VCALENDAR
VERSION:2.0
PRODID:-//mhaorangeny.com//NONSGML kigkonsult.se iCalcreator 2.30.10//
CALSCALE:GREGORIAN
METHOD:PUBLISH
UID:f997fe9a-3406-40e5-95d8-7155b2ad5008
X-WR-CALDESC:
X-WR-RELCALID:99e3a339b70f7918583e97bc953828f3
X-WR-TIMEZONE:America/Chicago
BEGIN:VTIMEZONE
TZID:America/Chicago
BEGIN:STANDARD
TZNAME:CST
DTSTART:20241103T020000
TZOFFSETFROM:-0500
TZOFFSETTO:-0600
RDATE:20251102T020000
END:STANDARD
BEGIN:DAYLIGHT
TZNAME:CDT
DTSTART:20250309T020000
TZOFFSETFROM:-0600
TZOFFSETTO:-0500
RDATE:20260308T020000
END:DAYLIGHT
END:VTIMEZONE
BEGIN:VEVENT
UID:7e9b7124-504a-4007-8040-b1dc4927b091
DTSTAMP:20260424T093619Z
DESCRIPTION:
DTSTART;TZID=America/Chicago:20250402T090000
DTEND;TZID=America/Chicago:20250402T160000
LOCATION:Garnet Health Center\, 707 East Main St. \, Middletown \, NY 10940
  US
SUMMARY:Wellness Fair
END:VEVENT
END:VCALENDAR
