BEGIN:VCALENDAR
VERSION:2.0
PRODID:-//mhaorangeny.com//NONSGML kigkonsult.se iCalcreator 2.30.10//
CALSCALE:GREGORIAN
METHOD:PUBLISH
UID:c7fdd658-efb6-46df-b2a4-4e6ae02bb8a9
X-WR-CALDESC:
X-WR-RELCALID:b11127601d8df7b5756a2e6e1b90e568
X-WR-TIMEZONE:America/Chicago
BEGIN:VTIMEZONE
TZID:America/Chicago
BEGIN:STANDARD
TZNAME:CST
DTSTART:20241103T020000
TZOFFSETFROM:-0500
TZOFFSETTO:-0600
RDATE:20251102T020000
END:STANDARD
BEGIN:DAYLIGHT
TZNAME:CDT
DTSTART:20250309T020000
TZOFFSETFROM:-0600
TZOFFSETTO:-0500
RDATE:20260308T020000
END:DAYLIGHT
END:VTIMEZONE
BEGIN:VEVENT
UID:ed41a424-8c16-4616-98f4-dadb9580ba90
DTSTAMP:20260424T093619Z
DESCRIPTION:
DTSTART;TZID=America/Chicago:20250402T120000
DTEND;TZID=America/Chicago:20250402T140000
LOCATION:Mount St. Mary College \, 330 Powell Ave\, Newburgh\, NY 12550 US
SUMMARY:Clothesline Event
END:VEVENT
END:VCALENDAR
