BEGIN:VCALENDAR
VERSION:2.0
PRODID:-//mhaorangeny.com//NONSGML kigkonsult.se iCalcreator 2.30.10//
CALSCALE:GREGORIAN
METHOD:PUBLISH
UID:fcd5412a-ded0-4587-90ed-a0ecd3b4b977
X-WR-CALDESC:
X-WR-RELCALID:6b6c98268d19ab5d0e72eca7a7fb443f
X-WR-TIMEZONE:America/Chicago
BEGIN:VTIMEZONE
TZID:America/Chicago
BEGIN:STANDARD
TZNAME:CST
DTSTART:20241103T020000
TZOFFSETFROM:-0500
TZOFFSETTO:-0600
RDATE:20251102T020000
END:STANDARD
BEGIN:DAYLIGHT
TZNAME:CDT
DTSTART:20250309T020000
TZOFFSETFROM:-0600
TZOFFSETTO:-0500
RDATE:20260308T020000
END:DAYLIGHT
END:VTIMEZONE
BEGIN:VEVENT
UID:39f82bfa-238a-4318-b4a4-6ae2cbc91c14
DTSTAMP:20260424T094437Z
DESCRIPTION:
DTSTART;TZID=America/Chicago:20250401T050000
DTEND;TZID=America/Chicago:20250401T050001
LOCATION:
SUMMARY:Wear teal for Sexual Assault Awareness Month Day of Action
END:VEVENT
END:VCALENDAR
