BEGIN:VCALENDAR
VERSION:2.0
PRODID:-//mhaorangeny.com//NONSGML kigkonsult.se iCalcreator 2.30.10//
CALSCALE:GREGORIAN
METHOD:PUBLISH
UID:685b484d-9bff-4337-b0d1-3d1c2bb4064c
X-WR-CALDESC:Weekly gathering of Veterans at Gallery Billiards in Newburgh.
X-WR-RELCALID:4d468d61b134a5a4b9391c0121a33e72
X-WR-TIMEZONE:America/Chicago
BEGIN:VTIMEZONE
TZID:America/Chicago
BEGIN:STANDARD
TZNAME:CST
DTSTART:20241103T020000
TZOFFSETFROM:-0500
TZOFFSETTO:-0600
RDATE:20251102T020000
END:STANDARD
BEGIN:DAYLIGHT
TZNAME:CDT
DTSTART:20250309T020000
TZOFFSETFROM:-0600
TZOFFSETTO:-0500
RDATE:20260308T020000
END:DAYLIGHT
END:VTIMEZONE
BEGIN:VEVENT
UID:91b13939-9f2f-45a8-9d7c-1364a06acbd9
DTSTAMP:20260424T094243Z
DESCRIPTION:Weekly gathering of Veterans at Gallery Billiards in Newburgh.
DTSTART;TZID=America/Chicago:20250401T123000
DTEND;TZID=America/Chicago:20250401T140000
LOCATION:154 North Plank Road\, Newburgh\, NY 12550 US
SUMMARY:Vet2Vet Billiards
END:VEVENT
END:VCALENDAR
