BEGIN:VCALENDAR
VERSION:2.0
PRODID:-//mhaorangeny.com//NONSGML kigkonsult.se iCalcreator 2.30.10//
CALSCALE:GREGORIAN
METHOD:PUBLISH
UID:e9af3266-3f83-4dfe-88fe-9de5b15d304c
X-WR-CALDESC:
X-WR-RELCALID:9a7cbf7fe694f911c4953925c16951d7
X-WR-TIMEZONE:America/Chicago
BEGIN:VTIMEZONE
TZID:America/Chicago
BEGIN:STANDARD
TZNAME:CST
DTSTART:20241103T020000
TZOFFSETFROM:-0500
TZOFFSETTO:-0600
RDATE:20251102T020000
END:STANDARD
BEGIN:DAYLIGHT
TZNAME:CDT
DTSTART:20250309T020000
TZOFFSETFROM:-0600
TZOFFSETTO:-0500
RDATE:20260308T020000
END:DAYLIGHT
END:VTIMEZONE
BEGIN:VEVENT
UID:1107b21a-4038-4888-9cb6-84a7b95dcb81
DTSTAMP:20260424T075829Z
DESCRIPTION:
DTSTART;TZID=America/Chicago:20250328T110000
DTEND;TZID=America/Chicago:20250328T140000
LOCATION:Mount St. Mary College\, 330 Powell Ave\, Newburgh\, NY 12550 US
SUMMARY:Tabling Event for Paper Clothesline
END:VEVENT
END:VCALENDAR
