BEGIN:VCALENDAR
VERSION:2.0
PRODID:-//mhaorangeny.com//NONSGML kigkonsult.se iCalcreator 2.30.10//
CALSCALE:GREGORIAN
METHOD:PUBLISH
UID:085eb77e-accd-4127-b5ba-4bcdbf95480e
X-WR-CALDESC:
X-WR-RELCALID:a666c856554a0435688cd2597d9211e5
X-WR-TIMEZONE:America/Chicago
BEGIN:VTIMEZONE
TZID:America/Chicago
BEGIN:STANDARD
TZNAME:CST
DTSTART:20241103T020000
TZOFFSETFROM:-0500
TZOFFSETTO:-0600
RDATE:20251102T020000
END:STANDARD
BEGIN:DAYLIGHT
TZNAME:CDT
DTSTART:20250309T020000
TZOFFSETFROM:-0600
TZOFFSETTO:-0500
RDATE:20260308T020000
END:DAYLIGHT
END:VTIMEZONE
BEGIN:VEVENT
UID:4b51d2d2-25ab-4c87-96f0-caf886eb8b62
DTSTAMP:20260424T080004Z
DESCRIPTION:
DTSTART;TZID=America/Chicago:20250324T090000
DTEND;TZID=America/Chicago:20250324T103000
LOCATION:Middletown Thrall Library\, 11-19 Depot St. \, Middletown \, NY 10
 940 US
SUMMARY:Middletown Cares Meeting
END:VEVENT
END:VCALENDAR
