BEGIN:VCALENDAR
VERSION:2.0
PRODID:-//mhaorangeny.com//NONSGML kigkonsult.se iCalcreator 2.30.10//
CALSCALE:GREGORIAN
METHOD:PUBLISH
UID:08459cae-2232-40b5-aec9-ae063374730d
X-WR-CALDESC:
X-WR-RELCALID:fdbb78f392c44fe91efcdae37dc764ad
X-WR-TIMEZONE:America/Chicago
BEGIN:VTIMEZONE
TZID:America/Chicago
BEGIN:STANDARD
TZNAME:CST
DTSTART:20241103T020000
TZOFFSETFROM:-0500
TZOFFSETTO:-0600
RDATE:20251102T020000
END:STANDARD
BEGIN:DAYLIGHT
TZNAME:CDT
DTSTART:20250309T020000
TZOFFSETFROM:-0600
TZOFFSETTO:-0500
RDATE:20260308T020000
END:DAYLIGHT
END:VTIMEZONE
BEGIN:VEVENT
UID:98961e3d-3a74-499d-a03b-babf9f48ebe7
DTSTAMP:20260424T075837Z
DESCRIPTION:
DTSTART;TZID=America/Chicago:20250322T100000
DTEND;TZID=America/Chicago:20250322T140000
LOCATION:161 Center St.\, Pine Bush\, NY 12566 US
SUMMARY:Suicide Prevention Event VA and HCC
END:VEVENT
END:VCALENDAR
