BEGIN:VCALENDAR
VERSION:2.0
PRODID:-//mhaorangeny.com//NONSGML kigkonsult.se iCalcreator 2.30.10//
CALSCALE:GREGORIAN
METHOD:PUBLISH
UID:50351d79-df20-4b54-93fb-2577db42f1b6
X-WR-CALDESC:Veteran Taichi/Qigong at Cornerstone on the 1st and 3rd Wednes
 day of each month.
X-WR-RELCALID:5fc08ad2eae041aa49d49776f60c8354
X-WR-TIMEZONE:America/Chicago
BEGIN:VTIMEZONE
TZID:America/Chicago
BEGIN:STANDARD
TZNAME:CST
DTSTART:20241103T020000
TZOFFSETFROM:-0500
TZOFFSETTO:-0600
RDATE:20251102T020000
END:STANDARD
BEGIN:DAYLIGHT
TZNAME:CDT
DTSTART:20250309T020000
TZOFFSETFROM:-0600
TZOFFSETTO:-0500
RDATE:20260308T020000
END:DAYLIGHT
END:VTIMEZONE
BEGIN:VEVENT
UID:0a59d909-36e0-4968-a6c3-90726211750c
DTSTAMP:20260422T101759Z
DESCRIPTION:Veteran Taichi/Qigong at Cornerstone on the 1st and 3rd Wednesd
 ay of each month.
DTSTART;TZID=America/Chicago:20250319T180000
DTEND;TZID=America/Chicago:20250319T180000
LOCATION:111 Broadway Newburgh\, Newburgh\, NY 12550 US
SUMMARY:Vet2Vet Taichi/Qigong
END:VEVENT
END:VCALENDAR
