BEGIN:VCALENDAR
VERSION:2.0
PRODID:-//mhaorangeny.com//NONSGML kigkonsult.se iCalcreator 2.30.10//
CALSCALE:GREGORIAN
METHOD:PUBLISH
UID:ee83af13-6fe5-422c-b1e1-c8ec6ccf7e13
X-WR-CALDESC:
X-WR-RELCALID:3699dcc5844858c92ed04c9eb19e377a
X-WR-TIMEZONE:America/Chicago
BEGIN:VTIMEZONE
TZID:America/Chicago
BEGIN:STANDARD
TZNAME:CST
DTSTART:20241103T020000
TZOFFSETFROM:-0500
TZOFFSETTO:-0600
RDATE:20251102T020000
END:STANDARD
BEGIN:DAYLIGHT
TZNAME:CDT
DTSTART:20250309T020000
TZOFFSETFROM:-0600
TZOFFSETTO:-0500
RDATE:20260308T020000
END:DAYLIGHT
END:VTIMEZONE
BEGIN:VEVENT
UID:752d958f-dec2-44be-bdac-4b0d514f9e12
DTSTAMP:20260424T075544Z
DESCRIPTION:
DTSTART;TZID=America/Chicago:20250314T150000
DTEND;TZID=America/Chicago:20250314T160000
LOCATION:Hudson House\, 100 Leprechaun Ln\, New Windsor\, NY 12553 US
SUMMARY:Narcan Training
END:VEVENT
END:VCALENDAR
