BEGIN:VCALENDAR
VERSION:2.0
PRODID:-//mhaorangeny.com//NONSGML kigkonsult.se iCalcreator 2.30.10//
CALSCALE:GREGORIAN
METHOD:PUBLISH
UID:9d588d56-b478-4ccf-b72d-fdecfdf37c52
X-WR-CALDESC:FREE Community event in conjunction with Health First for seni
 ors to explore the resources available to them.
X-WR-RELCALID:e05aa41a33659ba8f5a352c93ecda346
X-WR-TIMEZONE:America/Chicago
BEGIN:VTIMEZONE
TZID:America/Chicago
BEGIN:STANDARD
TZNAME:CST
DTSTART:20241103T020000
TZOFFSETFROM:-0500
TZOFFSETTO:-0600
RDATE:20251102T020000
END:STANDARD
BEGIN:DAYLIGHT
TZNAME:CDT
DTSTART:20250309T020000
TZOFFSETFROM:-0600
TZOFFSETTO:-0500
RDATE:20260308T020000
END:DAYLIGHT
END:VTIMEZONE
BEGIN:VEVENT
UID:c150c949-263b-4630-acac-7e9e9ed91e0f
DTSTAMP:20260424T080251Z
DESCRIPTION:FREE Community event in conjunction with Health First for senio
 rs to explore the resources available to them.
DTSTART;TZID=America/Chicago:20250314T120000
DTEND;TZID=America/Chicago:20250314T133000
LOCATION:Salvation Army Community Center\,  80 W Main St.\, Middletown \, N
 Y 10940 US
SUMMARY:Celebrate Seniors Health Event
END:VEVENT
END:VCALENDAR
