BEGIN:VCALENDAR
VERSION:2.0
PRODID:-//mhaorangeny.com//NONSGML kigkonsult.se iCalcreator 2.30.10//
CALSCALE:GREGORIAN
METHOD:PUBLISH
UID:35f6b46b-9f5f-4d28-abe3-87ad8eecd00b
X-WR-CALDESC:
X-WR-RELCALID:caf4617b9afe2896413810752e5dfcb3
X-WR-TIMEZONE:America/Chicago
BEGIN:VTIMEZONE
TZID:America/Chicago
BEGIN:STANDARD
TZNAME:CST
DTSTART:20241103T020000
TZOFFSETFROM:-0500
TZOFFSETTO:-0600
RDATE:20251102T020000
END:STANDARD
BEGIN:DAYLIGHT
TZNAME:CDT
DTSTART:20250309T020000
TZOFFSETFROM:-0600
TZOFFSETTO:-0500
RDATE:20260308T020000
END:DAYLIGHT
END:VTIMEZONE
BEGIN:VEVENT
UID:8e9d3171-68b8-4eaf-8b3a-2764d66994a7
DTSTAMP:20260424T075606Z
DESCRIPTION:
DTSTART;TZID=America/Chicago:20250313T123000
DTEND;TZID=America/Chicago:20250313T133000
LOCATION:https://us02web.zoom.us/j/89360083522?pwd=ZalrsGBXgDN9ffnYfjfaqXTv
 5NR1NY.1#success
SUMMARY:Peer Support Information Session
END:VEVENT
END:VCALENDAR
