BEGIN:VCALENDAR
VERSION:2.0
PRODID:-//mhaorangeny.com//NONSGML kigkonsult.se iCalcreator 2.30.10//
CALSCALE:GREGORIAN
METHOD:PUBLISH
UID:ed4ced3e-ec6f-4f01-8345-496fc4fbc1d2
X-WR-CALDESC:
X-WR-RELCALID:b9c805f4d52c092e6e8aed9d93a3b2fd
X-WR-TIMEZONE:America/Chicago
BEGIN:VTIMEZONE
TZID:America/Chicago
BEGIN:STANDARD
TZNAME:CST
DTSTART:20241103T020000
TZOFFSETFROM:-0500
TZOFFSETTO:-0600
RDATE:20251102T020000
END:STANDARD
BEGIN:DAYLIGHT
TZNAME:CDT
DTSTART:20240310T020000
TZOFFSETFROM:-0600
TZOFFSETTO:-0500
RDATE:20250309T020000
RDATE:20260308T020000
END:DAYLIGHT
END:VTIMEZONE
BEGIN:VEVENT
UID:1df77681-6776-4982-93e2-b527de5d5c38
DTSTAMP:20260424T075703Z
DESCRIPTION:
DTSTART;TZID=America/Chicago:20250310T120000
DTEND;TZID=America/Chicago:20250310T133000
LOCATION:The Integrative Collective\, 17 West St. \, Goshen\, NY 10924 US
SUMMARY:Emotional Quotient Training
END:VEVENT
END:VCALENDAR
