BEGIN:VCALENDAR
VERSION:2.0
PRODID:-//mhaorangeny.com//NONSGML kigkonsult.se iCalcreator 2.30.10//
CALSCALE:GREGORIAN
METHOD:PUBLISH
UID:c16eda57-d246-415a-9f28-cb866ce0b620
X-WR-CALDESC:
X-WR-RELCALID:0fe8d70f874ce3ed0e70980dbc41e490
X-WR-TIMEZONE:America/Chicago
BEGIN:VTIMEZONE
TZID:America/Chicago
BEGIN:STANDARD
TZNAME:CST
DTSTART:20241103T020000
TZOFFSETFROM:-0500
TZOFFSETTO:-0600
RDATE:20251102T020000
END:STANDARD
BEGIN:DAYLIGHT
TZNAME:CDT
DTSTART:20240310T020000
TZOFFSETFROM:-0600
TZOFFSETTO:-0500
RDATE:20250309T020000
RDATE:20260308T020000
END:DAYLIGHT
END:VTIMEZONE
BEGIN:VEVENT
UID:655d327d-ea2c-4c21-bb62-fde9fa831240
DTSTAMP:20260424T075650Z
DESCRIPTION:
DTSTART;TZID=America/Chicago:20250308T100000
DTEND;TZID=America/Chicago:20250308T140000
LOCATION:161 Center St.\, Pine Bush\, NY 12566 US
SUMMARY:Suicide Prevention Event (Copy)
END:VEVENT
END:VCALENDAR
