BEGIN:VCALENDAR
VERSION:2.0
PRODID:-//mhaorangeny.com//NONSGML kigkonsult.se iCalcreator 2.30.10//
CALSCALE:GREGORIAN
METHOD:PUBLISH
UID:eb7ca3c3-e64b-4cf8-a0b4-bdaeb114f08a
X-WR-CALDESC:
X-WR-RELCALID:2b00b614f6c7329ac87d02e3190d373b
X-WR-TIMEZONE:America/Chicago
BEGIN:VTIMEZONE
TZID:America/Chicago
BEGIN:STANDARD
TZNAME:CST
DTSTART:20241103T020000
TZOFFSETFROM:-0500
TZOFFSETTO:-0600
RDATE:20251102T020000
END:STANDARD
BEGIN:DAYLIGHT
TZNAME:CDT
DTSTART:20240310T020000
TZOFFSETFROM:-0600
TZOFFSETTO:-0500
RDATE:20250309T020000
RDATE:20260308T020000
END:DAYLIGHT
END:VTIMEZONE
BEGIN:VEVENT
UID:d63a6a1f-24f3-433a-83ff-fe2a669ec06d
DTSTAMP:20260424T075744Z
DESCRIPTION:
DTSTART;TZID=America/Chicago:20250308T100000
DTEND;TZID=America/Chicago:20250308T110000
LOCATION:https://www.uspathway.net/webinars
SUMMARY:Know Your Rights!  Tus Derechos Importan!
END:VEVENT
END:VCALENDAR
