BEGIN:VCALENDAR
VERSION:2.0
PRODID:-//mhaorangeny.com//NONSGML kigkonsult.se iCalcreator 2.30.10//
CALSCALE:GREGORIAN
METHOD:PUBLISH
UID:fcc5ec5f-b5bb-4371-8883-87ae69559f14
X-WR-CALDESC:Soup and socialization with co-workers in acknowledgement of t
 he great work that we do.
X-WR-RELCALID:bf5672c6a69633ea2682811e2dd093a2
X-WR-TIMEZONE:America/Chicago
BEGIN:VTIMEZONE
TZID:America/Chicago
BEGIN:STANDARD
TZNAME:CST
DTSTART:20241103T020000
TZOFFSETFROM:-0500
TZOFFSETTO:-0600
RDATE:20251102T020000
END:STANDARD
BEGIN:DAYLIGHT
TZNAME:CDT
DTSTART:20240310T020000
TZOFFSETFROM:-0600
TZOFFSETTO:-0500
RDATE:20250309T020000
RDATE:20260308T020000
END:DAYLIGHT
END:VTIMEZONE
BEGIN:VEVENT
UID:71c83974-09fc-4bc4-a099-71cf31b214bf
DTSTAMP:20260424T075702Z
DESCRIPTION:Soup and socialization with co-workers in acknowledgement of th
 e great work that we do.
DTSTART;TZID=America/Chicago:20250307T090000
DTEND;TZID=America/Chicago:20250307T100000
LOCATION:Hudson House and Middletown Offices
SUMMARY:Employee Appreciation Day
END:VEVENT
END:VCALENDAR
