BEGIN:VCALENDAR
VERSION:2.0
PRODID:-//mhaorangeny.com//NONSGML kigkonsult.se iCalcreator 2.30.10//
CALSCALE:GREGORIAN
METHOD:PUBLISH
UID:056df02c-8073-4255-8bcb-be10e5772487
X-WR-CALDESC:
X-WR-RELCALID:2bf8f27ae7472c9f7cb67c19ba24d083
X-WR-TIMEZONE:America/Chicago
BEGIN:VTIMEZONE
TZID:America/Chicago
BEGIN:STANDARD
TZNAME:CST
DTSTART:20241103T020000
TZOFFSETFROM:-0500
TZOFFSETTO:-0600
RDATE:20251102T020000
END:STANDARD
BEGIN:DAYLIGHT
TZNAME:CDT
DTSTART:20240310T020000
TZOFFSETFROM:-0600
TZOFFSETTO:-0500
RDATE:20250309T020000
RDATE:20260308T020000
END:DAYLIGHT
END:VTIMEZONE
BEGIN:VEVENT
UID:6367171c-de21-4019-9133-6b67824a4296
DTSTAMP:20260424T080806Z
DESCRIPTION:
DTSTART;TZID=America/Chicago:20250306T120000
DTEND;TZID=America/Chicago:20250306T140000
LOCATION:The Table\, 73 Clinton St. \, Montgomery \, NY 12549 US
SUMMARY:RECAP Women's Luncheon
END:VEVENT
END:VCALENDAR
