BEGIN:VCALENDAR
VERSION:2.0
PRODID:-//mhaorangeny.com//NONSGML kigkonsult.se iCalcreator 2.30.10//
CALSCALE:GREGORIAN
METHOD:PUBLISH
UID:676d6989-3f67-4be5-87f4-c420630b13dd
X-WR-CALDESC:
X-WR-RELCALID:aa4055a9c08e8228d495f5642ae73db8
X-WR-TIMEZONE:America/Chicago
BEGIN:VTIMEZONE
TZID:America/Chicago
BEGIN:STANDARD
TZNAME:CST
DTSTART:20241103T020000
TZOFFSETFROM:-0500
TZOFFSETTO:-0600
RDATE:20251102T020000
END:STANDARD
BEGIN:DAYLIGHT
TZNAME:CDT
DTSTART:20240310T020000
TZOFFSETFROM:-0600
TZOFFSETTO:-0500
RDATE:20250309T020000
RDATE:20260308T020000
END:DAYLIGHT
END:VTIMEZONE
BEGIN:VEVENT
UID:2c3c1ebe-5939-4283-9529-3bde64d11588
DTSTAMP:20260424T075829Z
DESCRIPTION:
DTSTART;TZID=America/Chicago:20250306T093000
DTEND;TZID=America/Chicago:20250306T110000
LOCATION:
SUMMARY:MHA Staff Meeting
END:VEVENT
END:VCALENDAR
