BEGIN:VCALENDAR
VERSION:2.0
PRODID:-//mhaorangeny.com//NONSGML kigkonsult.se iCalcreator 2.30.10//
CALSCALE:GREGORIAN
METHOD:PUBLISH
UID:34596eff-5647-4412-9b46-618bdbe1978f
X-WR-CALDESC:
X-WR-RELCALID:0b347788550d432aba8ae197c8e579ad
X-WR-TIMEZONE:America/Chicago
BEGIN:VTIMEZONE
TZID:America/Chicago
BEGIN:STANDARD
TZNAME:CST
DTSTART:20241103T020000
TZOFFSETFROM:-0500
TZOFFSETTO:-0600
RDATE:20251102T020000
END:STANDARD
BEGIN:DAYLIGHT
TZNAME:CDT
DTSTART:20240310T020000
TZOFFSETFROM:-0600
TZOFFSETTO:-0500
RDATE:20250309T020000
RDATE:20260308T020000
END:DAYLIGHT
END:VTIMEZONE
BEGIN:VEVENT
UID:e313c558-4587-4632-984b-7863c1223cc7
DTSTAMP:20260424T075837Z
DESCRIPTION:
DTSTART;TZID=America/Chicago:20250305T090000
DTEND;TZID=America/Chicago:20250305T110000
LOCATION:Thrall Library\, Middletown \, NY 10916 US
SUMMARY:Middletown Community Outreach
END:VEVENT
END:VCALENDAR
