BEGIN:VCALENDAR
VERSION:2.0
PRODID:-//mhaorangeny.com//NONSGML kigkonsult.se iCalcreator 2.30.10//
CALSCALE:GREGORIAN
METHOD:PUBLISH
UID:3b505373-effd-4550-8707-a212cb09cf09
X-WR-CALDESC:
X-WR-RELCALID:a2fc7ce0c6ea738271ef47e5473c4bdc
X-WR-TIMEZONE:America/Chicago
BEGIN:VTIMEZONE
TZID:America/Chicago
BEGIN:STANDARD
TZNAME:CST
DTSTART:20241103T020000
TZOFFSETFROM:-0500
TZOFFSETTO:-0600
RDATE:20251102T020000
END:STANDARD
BEGIN:DAYLIGHT
TZNAME:CDT
DTSTART:20240310T020000
TZOFFSETFROM:-0600
TZOFFSETTO:-0500
RDATE:20250309T020000
RDATE:20260308T020000
END:DAYLIGHT
END:VTIMEZONE
BEGIN:VEVENT
UID:8aaf54c7-624c-49f7-bb36-85522803ce56
DTSTAMP:20260424T063236Z
DESCRIPTION:
DTSTART;TZID=America/Chicago:20250227T100000
DTEND;TZID=America/Chicago:20250227T140000
LOCATION:124 Grand St.\, Newburgh \, NY 12550 US
SUMMARY:MHA at Newburgh Free Library
END:VEVENT
END:VCALENDAR
