BEGIN:VCALENDAR
VERSION:2.0
PRODID:-//mhaorangeny.com//NONSGML kigkonsult.se iCalcreator 2.30.10//
CALSCALE:GREGORIAN
METHOD:PUBLISH
UID:161c159e-a4c5-4b32-89df-75aa4e943515
X-WR-CALDESC:
X-WR-RELCALID:7a5650c7872222d5dc069a4083e776d8
X-WR-TIMEZONE:America/Chicago
BEGIN:VTIMEZONE
TZID:America/Chicago
BEGIN:STANDARD
TZNAME:CST
DTSTART:20241103T020000
TZOFFSETFROM:-0500
TZOFFSETTO:-0600
RDATE:20251102T020000
END:STANDARD
BEGIN:DAYLIGHT
TZNAME:CDT
DTSTART:20240310T020000
TZOFFSETFROM:-0600
TZOFFSETTO:-0500
RDATE:20250309T020000
RDATE:20260308T020000
END:DAYLIGHT
END:VTIMEZONE
BEGIN:VEVENT
UID:a64b0f26-b235-43ca-8f44-e3c59b8b1ec2
DTSTAMP:20260424T063415Z
DESCRIPTION:
DTSTART;TZID=America/Chicago:20250224T090000
DTEND;TZID=America/Chicago:20250224T103000
LOCATION:Middletown Thrall Library\, 11-19 Depot St.\, Middletown \, NY 109
 40 US
SUMMARY:Middletown Cares Meeting
END:VEVENT
END:VCALENDAR
