BEGIN:VCALENDAR
VERSION:2.0
PRODID:-//mhaorangeny.com//NONSGML kigkonsult.se iCalcreator 2.30.10//
CALSCALE:GREGORIAN
METHOD:PUBLISH
UID:e7bd2f31-bf42-4a62-b55d-25709334573d
X-WR-CALDESC:
X-WR-RELCALID:6829d6920fa46ca3e43c03e291246d9c
X-WR-TIMEZONE:America/Chicago
BEGIN:VTIMEZONE
TZID:America/Chicago
BEGIN:STANDARD
TZNAME:CST
DTSTART:20241103T020000
TZOFFSETFROM:-0500
TZOFFSETTO:-0600
RDATE:20251102T020000
END:STANDARD
BEGIN:DAYLIGHT
TZNAME:CDT
DTSTART:20240310T020000
TZOFFSETFROM:-0600
TZOFFSETTO:-0500
RDATE:20250309T020000
RDATE:20260308T020000
END:DAYLIGHT
END:VTIMEZONE
BEGIN:VEVENT
UID:4067d60a-3344-4ee4-8c7e-bc0bed2e24c2
DTSTAMP:20260424T063236Z
DESCRIPTION:
DTSTART;TZID=America/Chicago:20250213T100000
DTEND;TZID=America/Chicago:20250213T140000
LOCATION:Middletown Thrall Library\, 11-19 Depot St. \, Middletown \, NY 10
 940 US
SUMMARY:MHA at Middletown Thrall Library
END:VEVENT
END:VCALENDAR
