BEGIN:VCALENDAR
VERSION:2.0
PRODID:-//mhaorangeny.com//NONSGML kigkonsult.se iCalcreator 2.30.10//
CALSCALE:GREGORIAN
METHOD:PUBLISH
UID:5a1d5ef4-9801-4378-ab8f-bd311f1ecad0
X-WR-CALDESC:Weekly gathering of Veterans at Gallery Billiards in Newburgh.
X-WR-RELCALID:f0360d840b205400e99e0216047b6c38
X-WR-TIMEZONE:America/Chicago
BEGIN:VTIMEZONE
TZID:America/Chicago
BEGIN:STANDARD
TZNAME:CST
DTSTART:20241103T020000
TZOFFSETFROM:-0500
TZOFFSETTO:-0600
RDATE:20251102T020000
END:STANDARD
BEGIN:DAYLIGHT
TZNAME:CDT
DTSTART:20240310T020000
TZOFFSETFROM:-0600
TZOFFSETTO:-0500
RDATE:20250309T020000
RDATE:20260308T020000
END:DAYLIGHT
END:VTIMEZONE
BEGIN:VEVENT
UID:8c60e961-a1df-45d4-90cd-19b8cab0bf09
DTSTAMP:20260424T063955Z
DESCRIPTION:Weekly gathering of Veterans at Gallery Billiards in Newburgh.
DTSTART;TZID=America/Chicago:20250211T123000
DTEND;TZID=America/Chicago:20250211T140000
LOCATION:154 North Plank Road\, Newburgh\, NY 12550 US
SUMMARY:Vet2Vet Billiards
END:VEVENT
END:VCALENDAR
